BEGIN:VCALENDAR
VERSION:2.0
PRODID:-//Granja Labrada - ECPv6.15.12.2//NONSGML v1.0//EN
CALSCALE:GREGORIAN
METHOD:PUBLISH
X-ORIGINAL-URL:https://granjalabrada.com
X-WR-CALDESC:Eventos para Granja Labrada
REFRESH-INTERVAL;VALUE=DURATION:PT1H
X-Robots-Tag:noindex
X-PUBLISHED-TTL:PT1H
BEGIN:VTIMEZONE
TZID:Europe/Madrid
BEGIN:DAYLIGHT
TZOFFSETFROM:+0100
TZOFFSETTO:+0200
TZNAME:CEST
DTSTART:20220327T010000
END:DAYLIGHT
BEGIN:STANDARD
TZOFFSETFROM:+0200
TZOFFSETTO:+0100
TZNAME:CET
DTSTART:20221030T010000
END:STANDARD
BEGIN:DAYLIGHT
TZOFFSETFROM:+0100
TZOFFSETTO:+0200
TZNAME:CEST
DTSTART:20230326T010000
END:DAYLIGHT
BEGIN:STANDARD
TZOFFSETFROM:+0200
TZOFFSETTO:+0100
TZNAME:CET
DTSTART:20231029T010000
END:STANDARD
BEGIN:DAYLIGHT
TZOFFSETFROM:+0100
TZOFFSETTO:+0200
TZNAME:CEST
DTSTART:20240331T010000
END:DAYLIGHT
BEGIN:STANDARD
TZOFFSETFROM:+0200
TZOFFSETTO:+0100
TZNAME:CET
DTSTART:20241027T010000
END:STANDARD
END:VTIMEZONE
BEGIN:VEVENT
DTSTART;VALUE=DATE:20231117
DTEND;VALUE=DATE:20231120
DTSTAMP:20260423T172119
CREATED:20230925T163938Z
LAST-MODIFIED:20231015T095443Z
UID:9660-1700179200-1700438399@granjalabrada.com
SUMMARY:Clinic Marco Barba - Biomecánica y equitación
DESCRIPTION:¿Qué es biomecánica? Se denomina biomecánica al análisis de la mecánica del movimiento del cuerpo del caballo. Se trata de la ciencia que explica cómo y por qué el cuerpo del caballo se mueve de la forma que lo hace. Esto incluye la interacción existente entre el caballo que ejecuta el movimiento y el equipamiento o el entorno. \nPara una buena equitación o como diría Marco Barba para una equitación sana\, necesitamos aprender a interpretar el cuerpo del caballo\, no solo la posición de los miembros o la tan manida posición del cuello sino hacia dónde se dirige la tensión muscular que además está muy relacionada con las emociones que el caballo siente en cada momento. \nEn este Clinic de 3 días (viernes tarde\, sábado y domingo completos) trabajaremos sobre con Marco sobre estos conceptos a nivel teórico y práctico. \nViernes 17 – 16:30 a 19:30 Teoría y conceptos a aplicar durante el curso.\nSábado 18 – 9:30 a 19:30 (con pausa de 1h para comer) Demostración práctica de ejercicios y trabajo preparatorio de los diferentes caballos.\nDomingo 19 – 9:30 a 19:30 (con pausa de 1h para comer) Trabajo técnico más avanzado en base a la preparación de los días anteriores. \n💰 Precios: \nCon caballo (propio o del centro) 250€\nOyente viernes 30€\nOyente sábado 50€\nOyente domingo 50€ \n🤠 Otros:\nHay posibilidad de alojarse y comer en la Granja. \nRecuerda que puedes reservar plaza rellenando tus datos en el Formulario de Pre-Inscripción al Clinic Biomécanica y Equitación \nPara cualquier duda: 618 85 85 38 \n 
URL:https://granjalabrada.com/evento/clinic-marco-barba-biomecanica-y-equitacion/
LOCATION:Granja Labrada Bed & Horses\, Lugar de Labrada (Grañas do Sor)\, Mañón\, La Coruña\, 15339\, España
CATEGORIES:Clinics,Horsemanship,Jornadas Formativas Ecuestres
ATTACH;FMTTYPE=image/png:https://granjalabrada.com/wp-content/uploads/2023/09/1.png
ORGANIZER;CN="Granja Labrada Bed & Horses":MAILTO:sara@granjalabrada.com
END:VEVENT
END:VCALENDAR