BEGIN:VCALENDAR
VERSION:2.0
PRODID:-//Granja Labrada - ECPv6.15.12.2//NONSGML v1.0//EN
CALSCALE:GREGORIAN
METHOD:PUBLISH
X-WR-CALNAME:Granja Labrada
X-ORIGINAL-URL:https://granjalabrada.com
X-WR-CALDESC:Eventos para Granja Labrada
REFRESH-INTERVAL;VALUE=DURATION:PT1H
X-Robots-Tag:noindex
X-PUBLISHED-TTL:PT1H
BEGIN:VTIMEZONE
TZID:Europe/Madrid
BEGIN:DAYLIGHT
TZOFFSETFROM:+0100
TZOFFSETTO:+0200
TZNAME:CEST
DTSTART:20220327T010000
END:DAYLIGHT
BEGIN:STANDARD
TZOFFSETFROM:+0200
TZOFFSETTO:+0100
TZNAME:CET
DTSTART:20221030T010000
END:STANDARD
BEGIN:DAYLIGHT
TZOFFSETFROM:+0100
TZOFFSETTO:+0200
TZNAME:CEST
DTSTART:20230326T010000
END:DAYLIGHT
BEGIN:STANDARD
TZOFFSETFROM:+0200
TZOFFSETTO:+0100
TZNAME:CET
DTSTART:20231029T010000
END:STANDARD
BEGIN:DAYLIGHT
TZOFFSETFROM:+0100
TZOFFSETTO:+0200
TZNAME:CEST
DTSTART:20240331T010000
END:DAYLIGHT
BEGIN:STANDARD
TZOFFSETFROM:+0200
TZOFFSETTO:+0100
TZNAME:CET
DTSTART:20241027T010000
END:STANDARD
END:VTIMEZONE
BEGIN:VEVENT
DTSTART;TZID=Europe/Madrid:20231125T093000
DTEND;TZID=Europe/Madrid:20231125T180000
DTSTAMP:20260423T171811
CREATED:20230925T164211Z
LAST-MODIFIED:20231116T094044Z
UID:9663-1700904600-1700935200@granjalabrada.com
SUMMARY:Jornada Rezinkin Horses - Pie a tierra\, trabajos en largo
DESCRIPTION:En esta Jornada Rezinkin veremos diferentes tipos de trabajo con el caballo en la «larga distancia»\, hablaremos de cuatro manera de trabajar con el caballo\, sus diferentes objetivos y los resultados esperables\, asi como cuándo y por qué elegir unos u otros: \n\n\nRiendas largas\n\n\nTrabajo a la cuerda\n\n\nTrabajo con el lazo\n\n\nTrabajo en libertad\n\n\n¿Cual es el plan?\nPor la mañana 9:30 – 14:30: Un café y un poquito de teoría para ir entrando en materia\, a continuación Sara hará demostraciones de los diferentes trabajos y ejercicios con los caballos del centro. Si asistes solo por la mañana el precio es de 25€ \nPor la tarde: 15:30 – 18:00: Los participantes podrán practicar los ejercicios demostrados con los caballos del centro con el objetivo de aprender a realizarlos correctamente. De esta froma si luego quieres practicarlos en casa\, o en tu hípica te será mucho más sencillo porque las dudas y los errores más frecuentes ya te habrán surgido aqui durante las prácticas y Sara habrá podido ayudarte de primera mano. Como sabeis muchas veces lo que hay que hacer con el caballo se ve muy sencillo desde fuera pero al ponerse manos a la obra… La cosa cambia! Si asistes todo el día el precio es de 50€ \nSobre las Jornadas Rezinkin\nRezinkin Horses que viene del inglés «Rethinking»\, o lo que es lo mismo «Repensando» es una iniciativa de Granja Labrada que comenzó en 2021 con el objetivo de tratar temas relacionados con el bienestar\, el entrenamiento y la educación equina\, la tenencia responsable o la equitación… En Jornadas cortas y económicamente accesibles\, para cualquier propietario o interesado. \nEn este nuevo «Curso 2023-2024» se han programada un total de 9 encuentros ecuestres que te ayudarán a mejorar tu horsemanship.
URL:https://granjalabrada.com/evento/jornada-rezinkin-horses-pie-a-tierra-trabajos-en-largo/
LOCATION:Granja Labrada Bed & Horses\, Lugar de Labrada (Grañas do Sor)\, Mañón\, La Coruña\, 15339\, España
CATEGORIES:♡ Galicia Rural,Doma Natural,Groundwork,Hablemos de Caballos,Horsemanship,Jornadas Formativas Ecuestres,Rezinikin Horses,Trabajo pie a tierra con caballos
ATTACH;FMTTYPE=image/jpeg:https://granjalabrada.com/wp-content/uploads/2023/09/rezinkin-horese-trabajo-pie-a-tierra-sara-gascon.jpg
ORGANIZER;CN="Granja Labrada Bed & Horses":MAILTO:sara@granjalabrada.com
END:VEVENT
END:VCALENDAR