BEGIN:VCALENDAR
VERSION:2.0
PRODID:-//Granja Labrada - ECPv6.15.12.2//NONSGML v1.0//EN
CALSCALE:GREGORIAN
METHOD:PUBLISH
X-ORIGINAL-URL:https://granjalabrada.com
X-WR-CALDESC:Eventos para Granja Labrada
REFRESH-INTERVAL;VALUE=DURATION:PT1H
X-Robots-Tag:noindex
X-PUBLISHED-TTL:PT1H
BEGIN:VTIMEZONE
TZID:Europe/Madrid
BEGIN:DAYLIGHT
TZOFFSETFROM:+0100
TZOFFSETTO:+0200
TZNAME:CEST
DTSTART:20220327T010000
END:DAYLIGHT
BEGIN:STANDARD
TZOFFSETFROM:+0200
TZOFFSETTO:+0100
TZNAME:CET
DTSTART:20221030T010000
END:STANDARD
BEGIN:DAYLIGHT
TZOFFSETFROM:+0100
TZOFFSETTO:+0200
TZNAME:CEST
DTSTART:20230326T010000
END:DAYLIGHT
BEGIN:STANDARD
TZOFFSETFROM:+0200
TZOFFSETTO:+0100
TZNAME:CET
DTSTART:20231029T010000
END:STANDARD
BEGIN:DAYLIGHT
TZOFFSETFROM:+0100
TZOFFSETTO:+0200
TZNAME:CEST
DTSTART:20240331T010000
END:DAYLIGHT
BEGIN:STANDARD
TZOFFSETFROM:+0200
TZOFFSETTO:+0100
TZNAME:CET
DTSTART:20241027T010000
END:STANDARD
END:VTIMEZONE
BEGIN:VEVENT
DTSTART;TZID=Europe/Madrid:20231216T093000
DTEND;TZID=Europe/Madrid:20231216T180000
DTSTAMP:20260423T155137
CREATED:20230925T164328Z
LAST-MODIFIED:20231116T141327Z
UID:9664-1702719000-1702749600@granjalabrada.com
SUMMARY:Jornada Rezinkin Horses - Pie a tierra\, trabajo en corto
DESCRIPTION:
URL:https://granjalabrada.com/evento/jornada-rezinkin-horses-pie-a-tierra-trabajo-en-corto/
LOCATION:Granja Labrada Bed & Horses\, Lugar de Labrada (Grañas do Sor)\, Mañón\, La Coruña\, 15339\, España
CATEGORIES:Doma Natural,Hablemos de Caballos,Horsemanship,Jornadas Formativas Ecuestres,Rezinikin Horses
ATTACH;FMTTYPE=image/jpeg:https://granjalabrada.com/wp-content/uploads/2023/09/4.jpg
ORGANIZER;CN="Granja Labrada Bed & Horses":MAILTO:sara@granjalabrada.com
END:VEVENT
END:VCALENDAR