BEGIN:VCALENDAR
VERSION:2.0
PRODID:-//Granja Labrada - ECPv6.15.12.2//NONSGML v1.0//EN
CALSCALE:GREGORIAN
METHOD:PUBLISH
X-WR-CALNAME:Granja Labrada
X-ORIGINAL-URL:https://granjalabrada.com
X-WR-CALDESC:Eventos para Granja Labrada
REFRESH-INTERVAL;VALUE=DURATION:PT1H
X-Robots-Tag:noindex
X-PUBLISHED-TTL:PT1H
BEGIN:VTIMEZONE
TZID:Europe/Madrid
BEGIN:DAYLIGHT
TZOFFSETFROM:+0100
TZOFFSETTO:+0200
TZNAME:CEST
DTSTART:20240331T010000
END:DAYLIGHT
BEGIN:STANDARD
TZOFFSETFROM:+0200
TZOFFSETTO:+0100
TZNAME:CET
DTSTART:20241027T010000
END:STANDARD
BEGIN:DAYLIGHT
TZOFFSETFROM:+0100
TZOFFSETTO:+0200
TZNAME:CEST
DTSTART:20250330T010000
END:DAYLIGHT
BEGIN:STANDARD
TZOFFSETFROM:+0200
TZOFFSETTO:+0100
TZNAME:CET
DTSTART:20251026T010000
END:STANDARD
BEGIN:DAYLIGHT
TZOFFSETFROM:+0100
TZOFFSETTO:+0200
TZNAME:CEST
DTSTART:20260329T010000
END:DAYLIGHT
BEGIN:STANDARD
TZOFFSETFROM:+0200
TZOFFSETTO:+0100
TZNAME:CET
DTSTART:20261025T010000
END:STANDARD
END:VTIMEZONE
BEGIN:VEVENT
DTSTART;VALUE=DATE:20250912
DTEND;VALUE=DATE:20250915
DTSTAMP:20260420T224508
CREATED:20250720T085058Z
LAST-MODIFIED:20250720T085058Z
UID:17230-1757635200-1757894399@granjalabrada.com
SUMMARY:Retiro Vuelve a la Esencia\, vuelve a las Raíces Galicia
DESCRIPTION:Este Retiro es una oportunidad de dedicarte tiempo a Ti a tu Evolución\, de descansar y de practicar el arte de la meditación\, de recordar tu Esencia Divina. de volver a tus raíces como parte de la Naturaleza que eres\, de compartir con Seres que como Tú están en este Camino y en definitiva de evolucionar en Consciencia. \nLa semana anterior al Retiro te enviaremos un formulario para que nos indiques tus intolerancias alimenticias\, la dieta que sigues y otras indicaciones para llegar en coche. El alojamiento dispone de espacio de aparcamiento y está muy bien comunicado. \nEl precio indicado es  por persona..Incluye alojamiento\,en habitación doble con baño compartido\,  desayunos\, cenas y comidas (las comidas son vegetarianas) del fin de semana\,  sesiones guiadas de meditación\, talleres\, sesión con caballos el domingo. \nSi se hace el pago completo y se cancela con un mes de antelación se devolverá el 100% de lo abonado\, en caso de que se comunique 15 dias antes se devolverá el 50% y siempre descontando los gastos de transferencia bancaria.
URL:https://granjalabrada.com/evento/retiro-vuelve-a-la-esencia-vuelve-a-las-raices-galicia/
LOCATION:Granja Labrada Bed & Horses\, Lugar de Labrada (Grañas do Sor)\, Mañón\, La Coruña\, 15339\, España
CATEGORIES:Coaching
ATTACH;FMTTYPE=image/png:https://granjalabrada.com/wp-content/uploads/2025/07/1-1.png
ORGANIZER;CN="Carmen Valenzuela":MAILTO:contacto@carmenvalenzuela.com
END:VEVENT
END:VCALENDAR